BEGIN:VCALENDAR
PRODID:-//eluceo/ical//2.0/EN
VERSION:2.0
CALSCALE:GREGORIAN
BEGIN:VEVENT
UID:3ef37807a0a01996b5b3c61df1e9d6b4
DTSTAMP:20260423T142751Z
SUMMARY:JFNH Book Club: Noa Tishby's Israel - Bow
DESCRIPTION:Jewish Federation of New Hampshire\nCommunity Calendar\nhttps:/
 /jewishnh.org/community-calendar/jfnh-book-club-noa-tishbys-israel-bow\n\n
 Please join us for a discussion of Noa Tishby's book Israel: A Simple Gui
 de to the Most Misunderstood Country on Earth\, facilitated by JFNH Shali
 ach Ra'anan de Haas. The first 20 people to register will receive a free 
 copy of the book\, available for pick-up at the JFNH office! \n\nNoa Tish
 by's Israel can be found on Amazon for purchase here or on Audible 
 here\, narrated by the author.\n\n \n\nJune 7th and 8th book club groups 
 will be home-hosted by JFNH employees\, including beverag...
DTSTART;TZID=America/New_York:20230608T190000
DTEND;TZID=America/New_York:20230608T210000
END:VEVENT
END:VCALENDAR
