BEGIN:VCALENDAR
PRODID:-//eluceo/ical//2.0/EN
VERSION:2.0
CALSCALE:GREGORIAN
BEGIN:VEVENT
UID:0bd054a390050a09e4c08e339b4bae8a
DTSTAMP:20260424T203430Z
SUMMARY:JFNH Virtual Community Baking Program
DESCRIPTION:Jewish Federation of New Hampshire\nCommunity Calendar\nhttps:/
 /jewishnh.org/community-calendar/jfnh-community-baking-program\n\nJoin NH 
 Shlicha Avia Sagron as you make Sfinge (a Moroccan doughnut) and light the
  menorah candles together on Zoom. All the ingredients you need will be de
 livered to your door the week of the program.\n\n$10/participant. Space is
  limited Pre-registration is required by using our google form https://for
 ms.gle/PZJhTrZSD4z45Kci6 or calling the JFNH office at 603-627-7679
DTSTART;TZID=America/New_York:20201216T190000
DTEND;TZID=America/New_York:20201216T190000
END:VEVENT
END:VCALENDAR
