BEGIN:VCALENDAR
PRODID:-//eluceo/ical//2.0/EN
VERSION:2.0
CALSCALE:GREGORIAN
BEGIN:VEVENT
UID:191b3a94af9db3b2090222247467bada
DTSTAMP:20260425T000120Z
SUMMARY:JFNH Office Closed
DESCRIPTION:Jewish Federation of New Hampshire\nCommunity Calendar\nhttps:/
 /jewishnh.org/community-calendar/jfnh-office-closed-4-6-18\n\n.
DTSTART;TZID=America/New_York:20180406T000000
DTEND;TZID=America/New_York:20180406T000000
END:VEVENT
END:VCALENDAR
