BEGIN:VCALENDAR
PRODID:-//eluceo/ical//2.0/EN
VERSION:2.0
CALSCALE:GREGORIAN
BEGIN:VEVENT
UID:c5ea030edd67d74259b86b0dece0f190
DTSTAMP:20260423T235836Z
SUMMARY:JFNH office is closed
DESCRIPTION:Jewish Federation of New Hampshire\nCommunity Calendar\nhttps:/
 /jewishnh.org/community-calendar/jfnh-office-is-closed-5-21-18\n\nJFNH off
 ice is closed\n\n 
DTSTART;TZID=America/New_York:20180521T000000
DTEND;TZID=America/New_York:20180521T000000
END:VEVENT
END:VCALENDAR
