BEGIN:VCALENDAR
PRODID:-//eluceo/ical//2.0/EN
VERSION:2.0
CALSCALE:GREGORIAN
BEGIN:VEVENT
UID:16741e026c9c078bc82b5e6b157afb7f
DTSTAMP:20260422T050034Z
SUMMARY:JFNH office is closed
DESCRIPTION:Jewish Federation of New Hampshire\nCommunity Calendar\nhttps:/
 /jewishnh.org/community-calendar/jfnh-office-is-closed-5-28-18\n\nJFNH off
 ice is closed\n\n 
DTSTART;TZID=America/New_York:20180528T000000
DTEND;TZID=America/New_York:20180528T000000
END:VEVENT
END:VCALENDAR
