BEGIN:VCALENDAR
PRODID:-//eluceo/ical//2.0/EN
VERSION:2.0
CALSCALE:GREGORIAN
BEGIN:VEVENT
UID:a39503dbca029b32b39e3fb73e244536
DTSTAMP:20260424T005244Z
SUMMARY:JFNH Preschool Carnival
DESCRIPTION:Jewish Federation of New Hampshire\nCommunity Calendar\nhttps:/
 /jewishnh.org/community-calendar/jfnh-preschool-carnival\n\nJFNH Preschool
  Carnival
DTSTART;TZID=America/New_York:20180603T000000
DTEND;TZID=America/New_York:20180603T000000
END:VEVENT
END:VCALENDAR
