BEGIN:VCALENDAR
PRODID:-//eluceo/ical//2.0/EN
VERSION:2.0
CALSCALE:GREGORIAN
BEGIN:VEVENT
UID:54533772afeeecb376494486d88aca0a
DTSTAMP:20260422T173341Z
SUMMARY:JFNH Preschool Mother's Day Tea
DESCRIPTION:Jewish Federation of New Hampshire\nCommunity Calendar\nhttps:/
 /jewishnh.org/community-calendar/jfnh-preschool-mothers-day-tea\n\nJFNH Pr
 eschool Mother's Day Tea
DTSTART;TZID=America/New_York:20180509T000000
DTEND;TZID=America/New_York:20180509T000000
END:VEVENT
END:VCALENDAR
