BEGIN:VCALENDAR
PRODID:-//eluceo/ical//2.0/EN
VERSION:2.0
CALSCALE:GREGORIAN
BEGIN:VEVENT
UID:8e12c4829ee2503907df81dc04fbab56
DTSTAMP:20260423T064137Z
SUMMARY:JFNH Preschool Step Up Day/Graduation
DESCRIPTION:Jewish Federation of New Hampshire\nCommunity Calendar\nhttps:/
 /jewishnh.org/community-calendar/jfnh-preschool-step-up-daygraduation\n\nJ
 FNH Preschool Step Up Day/Graduation\n\n 
DTSTART;TZID=America/New_York:20180612T000000
DTEND;TZID=America/New_York:20180612T000000
END:VEVENT
END:VCALENDAR
