BEGIN:VCALENDAR
PRODID:-//eluceo/ical//2.0/EN
VERSION:2.0
CALSCALE:GREGORIAN
BEGIN:VEVENT
UID:9626684d2ac08c07cbc34b8badcce9f2
DTSTAMP:20260424T092006Z
SUMMARY:JFNH presents: A Taste of Israel
DESCRIPTION:Jewish Federation of New Hampshire\nCommunity Calendar\nhttps:/
 /jewishnh.org/community-calendar/jfnh-presents-a-taste-of-israel\n\nA Tast
 e of Israel | Liftoach Shulchan (Open Table)\n\n\nCome together to schmooz
 e while enjoying delicious foods of Israel. View a slideshow of JFNH-suppo
 rted Israel programs and hear from some of our grant recipients! $18/perso
 n.\n\n\nSponsor: JFNH's Israel Engagement and Education Committee Spotlig
 ht on Israel\n\nFebruary 19\, 2022\, 2-4pm\n\nJFNH Office\, 273 South Rive
 r Road\, Bedford\, NH
DTSTART;TZID=America/New_York:20230219T140000
DTEND;TZID=America/New_York:20230219T160000
END:VEVENT
END:VCALENDAR
