BEGIN:VCALENDAR
PRODID:-//eluceo/ical//2.0/EN
VERSION:2.0
CALSCALE:GREGORIAN
BEGIN:VEVENT
UID:6524bb51447f8055bd90994be3c708b8
DTSTAMP:20260423T204738Z
SUMMARY:JFNH presents: A Taste of Israel 2024
DESCRIPTION:Jewish Federation of New Hampshire\nCommunity Calendar\nhttps:/
 /jewishnh.org/community-calendar/jfnh-presents-a-taste-of-israel-2024\n\nA
  Taste of Israel | Liftoach Shulchan (Open Table)\n\n\n\nCome together to 
 schmooze while enjoying delicious foods of Israel. $18/person.\n\n\nSponso
 r: JFNH's Israel Engagement and Education Committee Spotlight on Israel\n
 \n\nFebruary 18\, 2024\, 2-4pm\n\nJFNH Office\, 273 South River Road\, Bed
 ford\, NH
DTSTART;TZID=America/New_York:20240218T140000
DTEND;TZID=America/New_York:20240218T160000
END:VEVENT
END:VCALENDAR
