BEGIN:VCALENDAR
PRODID:-//eluceo/ical//2.0/EN
VERSION:2.0
CALSCALE:GREGORIAN
BEGIN:VEVENT
UID:62dfe70d08cc1c09d9d39e3b91eb0e4e
DTSTAMP:20260423T104923Z
SUMMARY:JFNH Shaliach presents Israel Insider
DESCRIPTION:Jewish Federation of New Hampshire\nCommunity Calendar\nhttps:/
 /jewishnh.org/community-calendar/jfnh-shaliach-presents-israel-insider\n\n
 Join JFNH Shaliach Guy Ben David the second Monday of each month to discus
 s about different topics in Israel.\n\nSecond meetup: December 11th\, we w
 ill discuss about the Charedi society in Israel\nTime: 11AM and will be an
  hour and a half long.\nLocation: JFNH office - 273 S River Rd.\, Bedford\
 n\nAt this time there will be no hybrid option for these sessions.\n 
DTSTART;TZID=America/New_York:20231211T110000
DTEND;TZID=America/New_York:20231211T123000
END:VEVENT
END:VCALENDAR
