BEGIN:VCALENDAR
PRODID:-//eluceo/ical//2.0/EN
VERSION:2.0
CALSCALE:GREGORIAN
BEGIN:VEVENT
UID:cc3f79b11b2b7c152d9875e8f864cdb7
DTSTAMP:20260424T104516Z
SUMMARY:JFNH Super Sunday 2023
DESCRIPTION:Jewish Federation of New Hampshire\nCommunity Calendar\nhttps:/
 /jewishnh.org/community-calendar/jfnh-super-sunday-2023\n\nSuper Sunday is
  Jewish Federation of New Hampshire's (JFNH) biggest one day fundraiser of
  the year!\n\nVolunteers will be making phone calls to our Jewish communit
 y asking for support to our Annual Campaign.\n\nYour generous support help
 s JFNH to provide\n\n\nProgramming including Film Festival\, Momentum\, PJ
  LIbrary\, and more\nSocial Services to hose in need around our state\nGra
 nts to send your to Jewish overnight camp and Israel\nAllocations to Hebre
 w Schools across the state\nResponse...
DTSTART;TZID=America/New_York:20231217T100000
DTEND;TZID=America/New_York:20231217T160000
END:VEVENT
END:VCALENDAR
