BEGIN:VCALENDAR
PRODID:-//eluceo/ical//2.0/EN
VERSION:2.0
CALSCALE:GREGORIAN
BEGIN:VEVENT
UID:cd8a95f087d7af23ada9d2bd33e005e0
DTSTAMP:20260423T210842Z
SUMMARY:JFNH Super Sunday Event
DESCRIPTION:Jewish Federation of New Hampshire\nCommunity Calendar\nhttps:/
 /jewishnh.org/community-calendar/jfnh-super-sunday-event\n\nMore informati
 on coming soon!
DTSTART;TZID=America/New_York:20211212T090000
DTEND;TZID=America/New_York:20211212T160000
END:VEVENT
END:VCALENDAR
