BEGIN:VCALENDAR
PRODID:-//eluceo/ical//2.0/EN
VERSION:2.0
CALSCALE:GREGORIAN
BEGIN:VEVENT
UID:b15da8fde297ff148195942b7b24df5d
DTSTAMP:20260423T085923Z
SUMMARY:RESCHEDULED: JFNH Women's Group Presents Havdallah\, Yoga & Tea
DESCRIPTION:Jewish Federation of New Hampshire\nCommunity Calendar\nhttps:/
 /jewishnh.org/community-calendar/jfnh-womens-group-presents-havdallah-yoga
 -tea\n\nPLEASE NOTE: THIS EVENT HAS BEEN CANCELLED DUE TO THE WEATHER.\n\n
  \n\nJFNH Women's Group Presents\n\nHavdallah\, Yoga & Tea\n\nSaturday\, 
 March 12\, 6:30PM\nJFNH office\, Bedford\, NH\nFree event\; Registration R
 equired\n\nJoin us for a women's event featuring a short Havdallah service
 \, relaxing yoga with Arielle Eckhaus Welch of Nahar Yoga\, and followed b
 y an informational tea tasting led by Rivka Schwartz of Health and Hearth.
 \n\nDownload Flyer
DTSTART;TZID=America/New_York:20220312T183000
DTEND;TZID=America/New_York:20220312T200000
END:VEVENT
END:VCALENDAR
