BEGIN:VCALENDAR
PRODID:-//eluceo/ical//2.0/EN
VERSION:2.0
CALSCALE:GREGORIAN
BEGIN:VEVENT
UID:064b69f81cadd1bf7ab5780c5515882e
DTSTAMP:20260422T172203Z
SUMMARY:JNF-USA Conversations on Zionism: Scott Shay with Russell F. Robins
 on
DESCRIPTION:Jewish Federation of New Hampshire\nCommunity Calendar\nhttps:/
 /jewishnh.org/community-calendar/jnf-usa-conversations-on-zionism-scott-sh
 ay-with-russell-f-robinson-1641331044\n\nJoin Jewish National Fund-USA for
  a series of interviews\, panel discussions and more &ndash\; all meant to
  facilitate a dialogue and expose the beautiful and diverse facets of mode
 rn Zionism\, and its positive impact on many aspects of our lives\, no mat
 ter where we are on the globe. This episode features Scott Shay\, a leadin
 g businessman\, thought leader\, and author in conversation with Jewish Na
 tional Fund-USA&#039\;s CEO.
DTSTART;TZID=America/New_York:20220118T193000
DTEND;TZID=America/New_York:20220118T203000
END:VEVENT
END:VCALENDAR
