BEGIN:VCALENDAR
PRODID:-//eluceo/ical//2.0/EN
VERSION:2.0
CALSCALE:GREGORIAN
BEGIN:VEVENT
UID:c38967fd4b9131f48400e97adb61b6c3
DTSTAMP:20260422T184050Z
SUMMARY:JNF-USA Virtual National Conference Oct. 10-14
DESCRIPTION:Jewish Federation of New Hampshire\nCommunity Calendar\nhttps:/
 /jewishnh.org/community-calendar/jnf-usa-virtual-national-conference-oct-1
 0-14-1633010902\n\nJNF-USA&rsquo\;s national conference is now virtual! Jo
 in JNF-USA for one hour each evening on October 10-14 as we bring the land
  of Israel to your very own home. \n\n
DTSTART;TZID=America/New_York:20211010T190000
DTEND;TZID=America/New_York:20211014T200000
END:VEVENT
END:VCALENDAR
