BEGIN:VCALENDAR
PRODID:-//eluceo/ical//2.0/EN
VERSION:2.0
CALSCALE:GREGORIAN
BEGIN:VEVENT
UID:45c2314383b49e47428f5c86f03aeca0
DTSTAMP:20260422T082759Z
SUMMARY:"Joy and the Loud Cars" A Poetry Reading
DESCRIPTION:Jewish Federation of New Hampshire\nCommunity Calendar\nhttps:/
 /jewishnh.org/community-calendar/joy-and-the-loud-cars-a-poetry-reading-16
 00892436\n\nA Poetry Reading
DTSTART;TZID=America/New_York:20201015T190000
DTEND;TZID=America/New_York:20201015T210000
END:VEVENT
END:VCALENDAR
