BEGIN:VCALENDAR
PRODID:-//eluceo/ical//2.0/EN
VERSION:2.0
CALSCALE:GREGORIAN
BEGIN:VEVENT
UID:4d69129c63d2c49cfd390b54d35c168b
DTSTAMP:20260422T162616Z
SUMMARY:Temple Israel Jr. Congregation
DESCRIPTION:Jewish Federation of New Hampshire\nCommunity Calendar\nhttps:/
 /jewishnh.org/community-calendar/jr-congregation-1582842743\n\nJr. Congreg
 ation followed by kiddush in the Klein Social Hall
DTSTART;TZID=America/New_York:20200314T093000
DTEND;TZID=America/New_York:20200314T130000
END:VEVENT
END:VCALENDAR
