BEGIN:VCALENDAR
PRODID:-//eluceo/ical//2.0/EN
VERSION:2.0
CALSCALE:GREGORIAN
BEGIN:VEVENT
UID:a4bc8f0f40ef27f5056e146bbdeff059
DTSTAMP:20260422T034813Z
SUMMARY:Judaism 201: The Jewish Calendar and the Festival of Chanukkah
DESCRIPTION:Jewish Federation of New Hampshire\nCommunity Calendar\nhttps:/
 /jewishnh.org/community-calendar/judaism-201-the-jewish-calendar-and-the-f
 estival-of-chanukkah-1574875418\n\nJudaism 201 is an introduction to Judai
 sm series\, geared especially for people who know a lot about all kinds of
  things and would like to bring their knowledge of Judaism up to that same
  level!\n\nThis session is an overview of the Jewish calendar and festival
 s. What comes from the Torah\, what was created later in Jewish history? W
 hat are the key themes of each holy day? We will make a deeper dive into C
 hanukkah\, and talk about the specific practices and customs.\n\nParticipa
 te if you are sta...
DTSTART;TZID=America/New_York:20191205T194500
DTEND;TZID=America/New_York:20191205T210000
END:VEVENT
END:VCALENDAR
