BEGIN:VCALENDAR
PRODID:-//eluceo/ical//2.0/EN
VERSION:2.0
CALSCALE:GREGORIAN
BEGIN:VEVENT
UID:1cd25db0c13c920e1a1b38a4344f709d
DTSTAMP:20260423T031542Z
SUMMARY:Judaism 201 With Rabbi Jon
DESCRIPTION:Jewish Federation of New Hampshire\nCommunity Calendar\nhttps:/
 /jewishnh.org/community-calendar/judaism-201-with-rabbi-jon-1546446939\n\n
 This session will focus on the Amidah.Zoom out and zoom in on the "Standin
 g Prayer"\, also known as the "18 Blessings". It's the central prayer sect
 ion of every Jewish service.Study in person\, or join in by web video conf
 erence at https://zoom.us/j/5530075723 or by telephone at (669) 900-6833\,
  Meeting ID 553 007 5723
DTSTART;TZID=America/New_York:20190107T181500
DTEND;TZID=America/New_York:20190107T193000
END:VEVENT
END:VCALENDAR
