BEGIN:VCALENDAR
PRODID:-//eluceo/ical//2.0/EN
VERSION:2.0
CALSCALE:GREGORIAN
BEGIN:VEVENT
UID:72ff699518949365d07654a4e72e3297
DTSTAMP:20260422T050612Z
SUMMARY:Judaism 201 With Rabbi Jon
DESCRIPTION:Jewish Federation of New Hampshire\nCommunity Calendar\nhttps:/
 /jewishnh.org/community-calendar/judaism-201-with-rabbi-jon-1546447058\n\n
 This session will focus on The Torah.\n\nTorah is our original story\, an 
 anchor for every Jewish discussion\, an ancient text that is constantly up
 dating without changing\, a scroll and a set of books\, and a hypertext.\n
 \nStudy in person\, or join in by web video conference at https://zoom.us/
 j/5530075723 or by telephone at (669) 900-6833\, Meeting ID 553 007 5723
DTSTART;TZID=America/New_York:20190128T181500
DTEND;TZID=America/New_York:20190128T193000
END:VEVENT
END:VCALENDAR
