BEGIN:VCALENDAR
PRODID:-//eluceo/ical//2.0/EN
VERSION:2.0
CALSCALE:GREGORIAN
BEGIN:VEVENT
UID:5c17cc86703138e0df3fb2f0ef565ec3
DTSTAMP:20260423T232317Z
SUMMARY:Junior Congregation: Family Learning – A Taste of Text
DESCRIPTION:Jewish Federation of New Hampshire\nCommunity Calendar\nhttps:/
 /jewishnh.org/community-calendar/junior-congregation-family-learning-a-tas
 te-of-text\n\nJunior Congregation: Family Learning – A Taste of Text\n10
 – 11:30 AM\, Temple Beth Abraham (during morning services)\n \n\nDirect
 or of Education and Family Engagement Noreen Leibson will be leading a dis
 cussion about Jewish texts. There is no cost and RSVP is not required. Mor
 e information Noreen Leibson: director@tbanashua.org
DTSTART;TZID=America/New_York:20180407T100000
DTEND;TZID=America/New_York:20180407T113000
END:VEVENT
END:VCALENDAR
