BEGIN:VCALENDAR
PRODID:-//eluceo/ical//2.0/EN
VERSION:2.0
CALSCALE:GREGORIAN
BEGIN:VEVENT
UID:98a673cb204379c1f35c0ded98ab61df
DTSTAMP:20260423T000055Z
SUMMARY:Junior Congregation TBA
DESCRIPTION:Jewish Federation of New Hampshire\nCommunity Calendar\nhttps:/
 /jewishnh.org/community-calendar/junior-congregation-tba-4-14-18\n\nJunior
  Congregation\n(During morning services)\n\nFor children 3rd grade through
  6th grade. No cost and no RSVP required. More information Noreen Leibson:
  director@tbanashua.org
DTSTART;TZID=America/New_York:20180414T100000
DTEND;TZID=America/New_York:20180414T113000
END:VEVENT
END:VCALENDAR
