BEGIN:VCALENDAR
PRODID:-//eluceo/ical//2.0/EN
VERSION:2.0
CALSCALE:GREGORIAN
BEGIN:VEVENT
UID:01bed738918b5f8faf37bcce468aedbf
DTSTAMP:20260422T043741Z
SUMMARY:JWC: Seder Plates & Miracles - Seacoast
DESCRIPTION:Jewish Federation of New Hampshire\nCommunity Calendar\nhttps:/
 /jewishnh.org/community-calendar/jwc-seder-plates--miracles---seacoast-158
 3297006\n\nSeacoast Jewish Women's Circle invites you to Seder plates & Mi
 racles!Paint a beautiful ceramic masterpiece to add to your Passover Seder
  table while discovering the secret key to inviting miracles into your lif
 e.Couvert: $25 pp - $5 Student - Registration closes March 22  Sponsor: $1
 80 - Silver | $360 - Gold RSVP @ JewishSeacoast.com/JWC
DTSTART;TZID=America/New_York:20200326T190000
DTEND;TZID=America/New_York:20200326T200000
END:VEVENT
END:VCALENDAR
