BEGIN:VCALENDAR
PRODID:-//eluceo/ical//2.0/EN
VERSION:2.0
CALSCALE:GREGORIAN
BEGIN:VEVENT
UID:ac3d414743b8f9f7b530911fd5843251
DTSTAMP:20260423T231825Z
SUMMARY:Temple Israel Kabbalat Shabbat & Dinner
DESCRIPTION:Jewish Federation of New Hampshire\nCommunity Calendar\nhttps:/
 /jewishnh.org/community-calendar/kabbalat-shabbat--dinner-1703025324\n\nJo
 in us for a family-friendly Kabbalat Shabbat followed by a delicious cater
 ed diner.
DTSTART;TZID=America/New_York:20231212T180000
DTEND;TZID=America/New_York:20231212T210000
END:VEVENT
END:VCALENDAR
