BEGIN:VCALENDAR
PRODID:-//eluceo/ical//2.0/EN
VERSION:2.0
CALSCALE:GREGORIAN
BEGIN:VEVENT
UID:fbce74337f6a2d3ce1ef3bf41e7e37ec
DTSTAMP:20260422T111337Z
SUMMARY:Kabbalat Shabbat and Pot-Luck at the Strawbery Banke Sukkah
DESCRIPTION:Jewish Federation of New Hampshire\nCommunity Calendar\nhttps:/
 /jewishnh.org/community-calendar/kabbalat-shabbat-and-pot-luck-at-the-stra
 wbery-banke-sukkah-1662759733\n\nFeaturing musicians Lisa and Jay\, led by
  Rabba Kaya Stern-Kaufman. After a brief musical Kabbalat Shabbat service 
 on the green\, we will recite blessings in the sukkah and share a vegetari
 an pot-luck meal. Bring a lawn chair or blanket and dish to share.\n\nIn c
 ase of inclement weather\, the service will be held in the sanctuary at Te
 mple Israel\, and the potluck move to the Social Hall. Register via the Te
 mple Israel website calendar. https://templeisraelnh.shulcloud.com/event/o
 utdoor-kabbalat-...
DTSTART;TZID=America/New_York:20221014T173000
DTEND;TZID=America/New_York:20221014T193000
END:VEVENT
END:VCALENDAR
