BEGIN:VCALENDAR
PRODID:-//eluceo/ical//2.0/EN
VERSION:2.0
CALSCALE:GREGORIAN
BEGIN:VEVENT
UID:d842aed6021e07fdb547e88674f9ef64
DTSTAMP:20260422T090823Z
SUMMARY:Kabbat Shabbat Service
DESCRIPTION:Jewish Federation of New Hampshire\nCommunity Calendar\nhttps:/
 /jewishnh.org/community-calendar/kabbat-shabbat-service\n\nMore informatio
 n: 669-5650
DTSTART;TZID=America/New_York:20180706T180000
DTEND;TZID=America/New_York:20180706T190000
END:VEVENT
END:VCALENDAR
