BEGIN:VCALENDAR
PRODID:-//eluceo/ical//2.0/EN
VERSION:2.0
CALSCALE:GREGORIAN
BEGIN:VEVENT
UID:b6846931485a10ff504f48f8e71ba6a0
DTSTAMP:20260423T154559Z
SUMMARY:CANCELLED: Kaleidoscope for Teens
DESCRIPTION:Jewish Federation of New Hampshire\nCommunity Calendar\nhttps:/
 /jewishnh.org/community-calendar/kaleidoscope-for-teens\n\nUpdate: This Ev
 ent has been cancelled. \n\nThe Kaleidoscope project for teens.  This wo
 rkshop is a theatrical storytelling journey designed to explore diverse Je
 wish identities through monologues\, stories\, and spoken word.   After 
 a series of well-crafted\, pre-recorded monologues by Jews of Color and Je
 ws of Sephardi and Mizrahi heritage sharing from their personal experience
 s of being "othered\," the audience will be given prompts to reflect on an
 d write about their own experiences of bei...
DTSTART;TZID=America/New_York:20220206T170000
DTEND;TZID=America/New_York:20220206T183000
END:VEVENT
END:VCALENDAR
