BEGIN:VCALENDAR
PRODID:-//eluceo/ical//2.0/EN
VERSION:2.0
CALSCALE:GREGORIAN
BEGIN:VEVENT
UID:661b573be8cb784d339ccb1e7e063559
DTSTAMP:20260422T032314Z
SUMMARY:KALEIDOSCOPE Workshop Via Zoom
DESCRIPTION:Jewish Federation of New Hampshire\nCommunity Calendar\nhttps:/
 /jewishnh.org/community-calendar/kaleidoscope-workshop-via-zoom-1633375032
 \n\nKaleidoscope is a narrative-arts driven initiative that was sparked by
  a desire to highlight the stories of Jews of diverse racial and ethnic ba
 ckgrounds\, observance levels\, and interfaith experiences. Join the Kalei
 doscope cast for an evening of finely crafted monologues as we explore the
  deeply personal intersections between racial and ethnic diversity and the
  Jewish experience.
DTSTART;TZID=America/New_York:20220130T190000
DTEND;TZID=America/New_York:20220130T203000
END:VEVENT
END:VCALENDAR
