BEGIN:VCALENDAR
PRODID:-//eluceo/ical//2.0/EN
VERSION:2.0
CALSCALE:GREGORIAN
BEGIN:VEVENT
UID:746f9c4c661bc6e5e4050a53b3ab5811
DTSTAMP:20260424T053327Z
SUMMARY:Temple Israel Kibbitz & Cooking
DESCRIPTION:Jewish Federation of New Hampshire\nCommunity Calendar\nhttps:/
 /jewishnh.org/community-calendar/kibbitz--cooking-1699965404\n\nWe will en
 joy mimosas and "Jewishness" while we make hash brown potato latkes to be 
 delivered with coffee to the Manchester Police Department with thanks for 
 their service.
DTSTART;TZID=America/New_York:20231203T100000
DTEND;TZID=America/New_York:20231203T120000
END:VEVENT
END:VCALENDAR
