BEGIN:VCALENDAR
PRODID:-//eluceo/ical//2.0/EN
VERSION:2.0
CALSCALE:GREGORIAN
BEGIN:VEVENT
UID:4862e2c3d694b83036272f111af613b1
DTSTAMP:20260423T202152Z
SUMMARY:Temple Israel Kibbitz & Cooking!
DESCRIPTION:Jewish Federation of New Hampshire\nCommunity Calendar\nhttps:/
 /jewishnh.org/community-calendar/kibbitz--cooking-1705607328\n\nHamentasch
 en \, mimosas & conversation! What could be better?
DTSTART;TZID=America/New_York:20240317T100000
DTEND;TZID=America/New_York:20240317T120000
END:VEVENT
END:VCALENDAR
