BEGIN:VCALENDAR
PRODID:-//eluceo/ical//2.0/EN
VERSION:2.0
CALSCALE:GREGORIAN
BEGIN:VEVENT
UID:0224d4889d597ff579fdd36a732ae1c2
DTSTAMP:20260424T014913Z
SUMMARY:Kids Online Yoga Classes
DESCRIPTION:Jewish Federation of New Hampshire\nCommunity Calendar\nhttps:/
 /jewishnh.org/community-calendar/kids-online-yoga-classes-1610659789\n\nKi
 d Made Yoga is Now Offering Online Classes -\n\nClasses Begin January 26\,
  2021!\n\nRegistration Opens January 18\,2021.\n\nSign up using the Nottin
 gham Parks and Recreation website:\nhttps://secure.rec1.com/NH/nottingham-
 nh/catalog\n\nYoga is a gentle and universal way for Young Yogis to streng
 then their balance and coordination\, to learn a variety of stress managem
 ent and mindfulness techniques\, to connect with other kids\, and among ot
 her benefits\, it can help build the mind body connection...
DTSTART;TZID=America/New_York:20210126T093000
DTEND;TZID=America/New_York:20210126T101000
END:VEVENT
END:VCALENDAR
