BEGIN:VCALENDAR
PRODID:-//eluceo/ical//2.0/EN
VERSION:2.0
CALSCALE:GREGORIAN
BEGIN:VEVENT
UID:074f6f0efcfad623d5a62dc4b220aae0
DTSTAMP:20260423T202652Z
SUMMARY:Kol Ha'Emek Tot Shabbat
DESCRIPTION:Jewish Federation of New Hampshire\nCommunity Calendar\nhttps:/
 /jewishnh.org/community-calendar/kol-haemek-tot-shabbat\n\nKol Ha'Emek tot
  shabbat at the Roth Center (5 Occom Ridge\, Hanover) with Daniel Steinber
 g and Alicia Grossman\, 10-11 am
DTSTART;TZID=America/New_York:20240203T100000
DTEND;TZID=America/New_York:20240203T110000
END:VEVENT
END:VCALENDAR
