BEGIN:VCALENDAR
PRODID:-//eluceo/ical//2.0/EN
VERSION:2.0
CALSCALE:GREGORIAN
BEGIN:VEVENT
UID:9f95d18e92a2177b3188e030e584ff24
DTSTAMP:20260423T214343Z
SUMMARY:Kol Nidre at Congregation Betenu
DESCRIPTION:Jewish Federation of New Hampshire\nCommunity Calendar\nhttps:/
 /jewishnh.org/community-calendar/kol-nidre-1628091700\n\nKol Nidre Service
  led by Rav Giulia Fleishman and Cantorial Soloist Howard Solomon.\nServic
 e will be held at Betenu and also available remotely.
DTSTART;TZID=America/New_York:20210915T193000
DTEND;TZID=America/New_York:20210915T203000
END:VEVENT
END:VCALENDAR
