BEGIN:VCALENDAR
PRODID:-//eluceo/ical//2.0/EN
VERSION:2.0
CALSCALE:GREGORIAN
BEGIN:VEVENT
UID:4819003fb27f52d9ba17fe15e3d0f690
DTSTAMP:20260422T082258Z
SUMMARY:Kol Nidre Service at Temple B'nai Israel
DESCRIPTION:Jewish Federation of New Hampshire\nCommunity Calendar\nhttps:/
 /jewishnh.org/community-calendar/kol-nidre-service-at-temple-bnai-israel-1
 628041803\n\nTemple B'nai Israel offers hybrid High Holiday services\, wit
 h attendance in-person or on Zoom.
DTSTART;TZID=America/New_York:20210915T193000
DTEND;TZID=America/New_York:20210915T213000
END:VEVENT
END:VCALENDAR
