BEGIN:VCALENDAR
PRODID:-//eluceo/ical//2.0/EN
VERSION:2.0
CALSCALE:GREGORIAN
BEGIN:VEVENT
UID:4094cc610f080a54ca8d8dcfa3f9022b
DTSTAMP:20260420T194702Z
SUMMARY:Kosher Cooking Demo with Naomi Nachman
DESCRIPTION:Jewish Federation of New Hampshire\nCommunity Calendar\nhttps:/
 /jewishnh.org/community-calendar/kosher-cooking-demo-with\n\nCooking Demo 
 and Tasting with Naomi Nachman \n\nCookbook Author - Perfect Flavors\n\nF
 or Women and Men\n\nSunday • May 3\, 2026 • 6 PM\n\nChabad Center\, Ma
 nchester\, NH\n\n$25/ person\n\n$100/ sponsor\, includes signed cookbook
DTSTART;TZID=America/New_York:20260503T180000
DTEND;TZID=America/New_York:20260503T210000
END:VEVENT
END:VCALENDAR
