BEGIN:VCALENDAR
PRODID:-//eluceo/ical//2.0/EN
VERSION:2.0
CALSCALE:GREGORIAN
BEGIN:VEVENT
UID:ad0a445c226d251bccdc6f5ab4173943
DTSTAMP:20260422T175918Z
SUMMARY:Lag BaOmer Field Day\, Bonfire\, and Family Picnic
DESCRIPTION:Jewish Federation of New Hampshire\nCommunity Calendar\nhttps:/
 /jewishnh.org/community-calendar/lag-baomer-field-day-bonfire-and-family-p
 icnic-1681156210\n\nJoin Temple Israel Portsmouth for an afternoon of fiel
 d games\, archery\, low ropes\, gaga\, and of course a bonfire with s'more
 s! Let's celebrate the middle of the Omer the way it was meant to be... wi
 th lots of fun!\n\nPack a picnic dinner for your family and we'll provide 
 the rest. Don't miss this second annual event!\n\nNote: The Archery range 
 will be open to all children (and adults) in grades two and above due to G
 irl Scouts safety regulations. Archery participants will also be required 
 to ...
DTSTART;TZID=America/New_York:20230510T160000
DTEND;TZID=America/New_York:20230510T190000
END:VEVENT
END:VCALENDAR
