BEGIN:VCALENDAR
PRODID:-//eluceo/ical//2.0/EN
VERSION:2.0
CALSCALE:GREGORIAN
BEGIN:VEVENT
UID:91d15305f918757219e724e66f5916f9
DTSTAMP:20260423T121630Z
SUMMARY:Lag B'Omer
DESCRIPTION:Jewish Federation of New Hampshire\nCommunity Calendar\nhttps:/
 /jewishnh.org/community-calendar/lag-bomer\n\nBegins sunset Monday\, May 
 8\, 2023\nEnds evening Tuesday\, May 9\, 2023
DTSTART;TZID=America/New_York:20230508T000000
DTEND;TZID=America/New_York:20230509T000000
END:VEVENT
END:VCALENDAR
