BEGIN:VCALENDAR
PRODID:-//eluceo/ical//2.0/EN
VERSION:2.0
CALSCALE:GREGORIAN
BEGIN:VEVENT
UID:a48f7683cb4b1c72373aba2598b04020
DTSTAMP:20260422T235059Z
SUMMARY:LAKES\, LANYARDS\, AND LEARNING: THE STORY OF NEW ENGLAND JEWISH SU
 MMER CAMPS
DESCRIPTION:Jewish Federation of New Hampshire\nCommunity Calendar\nhttps:/
 /jewishnh.org/community-calendar/lakes-lanyards-and-learning-the-story-of-
 new-england-jewish-summer-camps-1650565655\n\nRegistration to come\nhttps:
 //jewishheritagecenter.org/events/lakes-lanyards-and-learning-story-new-en
 gland-jewish-summer-camps\n
DTSTART;TZID=America/New_York:20220612T150000
DTEND;TZID=America/New_York:20220613T170000
END:VEVENT
END:VCALENDAR
