BEGIN:VCALENDAR
PRODID:-//eluceo/ical//2.0/EN
VERSION:2.0
CALSCALE:GREGORIAN
BEGIN:VEVENT
UID:370af72a8bd5b8d7822965fa05e33b47
DTSTAMP:20260422T212224Z
SUMMARY:Temple Israel Portsmouth Latkepalooza Community Celebration
DESCRIPTION:Jewish Federation of New Hampshire\nCommunity Calendar\nhttps:/
 /jewishnh.org/community-calendar/latkepalooza-community-celebration-169962
 4720\n\nJoin Temple Israel Portsmouth for a community-wide hanukkiah ligh
 ting\, crafts\, music\, dancing\, and of course latkes and donuts! Bring
  your family’s favorite hanukkiah and nosh with us as we celebrate the
  festival of lights.\nRegister via the temple website calendar: https://te
 mpleisraelnh.shulcloud.com/event/community-hanukkah-celebration2.html
DTSTART;TZID=America/New_York:20231210T160000
DTEND;TZID=America/New_York:20231210T180000
END:VEVENT
END:VCALENDAR
