BEGIN:VCALENDAR
PRODID:-//eluceo/ical//2.0/EN
VERSION:2.0
CALSCALE:GREGORIAN
BEGIN:VEVENT
UID:233df3d1ec5b7f905b01049f461a3332
DTSTAMP:20260423T150751Z
SUMMARY:L'Dor V'Dor: Upper Valley Tots Shabbat
DESCRIPTION:Jewish Federation of New Hampshire\nCommunity Calendar\nhttps:/
 /jewishnh.org/community-calendar/ldor-vdor\n\nJoin us for Jewish stories\,
  music\, activities and refreshments.\n\nSpecial guests include PJ Library
 \, grandparent readers\, and YOU!\n\n \n\nMade possible by a generous gra
 nt from the Covenant Foundation and Jewish Communities of Vermont.\n\nOpen
  to the Community.
DTSTART;TZID=America/New_York:20221203T103000
DTEND;TZID=America/New_York:20221203T113000
END:VEVENT
END:VCALENDAR
