BEGIN:VCALENDAR
PRODID:-//eluceo/ical//2.0/EN
VERSION:2.0
CALSCALE:GREGORIAN
BEGIN:VEVENT
UID:79dbb5aa20eedf26bbf8cffd57e1c459
DTSTAMP:20260423T095910Z
SUMMARY:L'Dough V'Dough: Community Storytelling and Bread-baking Event
DESCRIPTION:Jewish Federation of New Hampshire\nCommunity Calendar\nhttps:/
 /jewishnh.org/community-calendar/ldough-vdough-community-storytelling-and-
 bread-baking-event\n\nEvery year\, the Cohen Center for Holocaust and Geno
 cide Studies holds an event in recognition of International Holocaust Reme
 mbrance Day. This year\, we are hosting L'Dough V'Dough\, which is a commu
 nity storytelling and bread-baking event. In this program\, Holocaust surv
 ivors (and others with a personal connection to the Holocaust) are seated 
 at tables with students\, community members\, and other participants to sh
 are personal stories while braiding and baking challah bread together. The
  name f...
DTSTART;TZID=America/New_York:20230207T173000
DTEND;TZID=America/New_York:20230207T193000
END:VEVENT
END:VCALENDAR
