BEGIN:VCALENDAR
PRODID:-//eluceo/ical//2.0/EN
VERSION:2.0
CALSCALE:GREGORIAN
BEGIN:VEVENT
UID:26707b75b555b019984842bb016a89cf
DTSTAMP:20260423T044140Z
SUMMARY:Learn About the Alexander Muss High School in Israel Program
DESCRIPTION:Jewish Federation of New Hampshire\nCommunity Calendar\nhttps:/
 /jewishnh.org/community-calendar/learn-about-the-alexander-muss-high-schoo
 l-in-israel-program-1548698198\n\nCome learn how AMHSI\, a transformative 
 study abroad program\, can enrich your teenager's high school experience a
 nd resume.\n\nAt AMHSI the land of Israel becomes a living classroom for s
 tudents. AMHSI\, an accredited American High School in Israel\, offers Sem
 ester\, 8-week\, and summer programs. AMHSI can help your teen develop ski
 lls and tools to prepare them for college and beyond\, all while having an
  amazing time traveling through Israel. The program explores Jewish histor
 y from the...
DTSTART;TZID=America/New_York:20190207T183000
DTEND;TZID=America/New_York:20190207T193000
END:VEVENT
END:VCALENDAR
