BEGIN:VCALENDAR
PRODID:-//eluceo/ical//2.0/EN
VERSION:2.0
CALSCALE:GREGORIAN
BEGIN:VEVENT
UID:078d378523f7725e522a00e427bc68a1
DTSTAMP:20260422T231145Z
SUMMARY:Learn Hebrew in Less than a Week with Rabbi Ira Korinow
DESCRIPTION:Jewish Federation of New Hampshire\nCommunity Calendar\nhttps:/
 /jewishnh.org/community-calendar/learn-hebrew-in-less-than-a-week-with-rab
 bi-ira-korinow-1573148809\n\nThis 4-night class (December 2 – 5)\, led b
 y Rabbi Ira Korinow\, meets from 7 - 8:30 PM in the Temple Israel Board Ro
 om\, 2nd floor. The class is meant to teach mechanical reading and will pr
 ovide you with the skills to continue to learn to read and understand what
  you’re reading. There is no cost for this class\, but you are required 
 to purchase the textbook (anticipated cost $13.95). Please RSVP to the tem
 ple office at 436-5301\, ext. 10 or templeoffice@templeisraelnh.org by Mon
 day\, November...
DTSTART;TZID=America/New_York:20191202T190000
DTEND;TZID=America/New_York:20191205T203000
END:VEVENT
END:VCALENDAR
