BEGIN:VCALENDAR
PRODID:-//eluceo/ical//2.0/EN
VERSION:2.0
CALSCALE:GREGORIAN
BEGIN:VEVENT
UID:2b29b65b01d8295078ca5c0cc95e2c1b
DTSTAMP:20260423T161722Z
SUMMARY:Learn to Make Hamentaschen
DESCRIPTION:Jewish Federation of New Hampshire\nCommunity Calendar\nhttps:/
 /jewishnh.org/community-calendar/learn-to-make-hamentaschen\n\nJoin PJ Lib
 rary program coordinator Dinah Berch for a family-friendly virtual baking 
 class over Zoom to make delicious Purim treats!\n\nFree event. Registratio
 n required to receive Zoom information and full recipe.
DTSTART;TZID=America/New_York:20220306T150000
DTEND;TZID=America/New_York:20220306T163000
END:VEVENT
END:VCALENDAR
