BEGIN:VCALENDAR
PRODID:-//eluceo/ical//2.0/EN
VERSION:2.0
CALSCALE:GREGORIAN
BEGIN:VEVENT
UID:b4af905ecdac535a418c099867a0a5d2
DTSTAMP:20260422T045503Z
SUMMARY:Leona -  NH Jewish Film Festival
DESCRIPTION:Jewish Federation of New Hampshire\nCommunity Calendar\nhttps:/
 /jewishnh.org/community-calendar/leona----nh-jewish-film-festival-15814577
 42\n\nLeona\n\nThursday\, March 26\, 2020\, 7:00 PM\nRed River Theatres\, 
 Concord\, NH\nAdmission: $12.00\n\nFilm Star Sponsor: Russell Wolff Produc
 tions\n\n \n\nDirector: Isaac Cherem\nDrama\, 2018\, Mexico\n95 minutes\n
 Spanish with English subtitles\nContent Warning: Adult Content\, Sexual Si
 tuations\n\nThis intimate\, insightful\, and moving film tells the story o
 f a young Jewish woman from Mexico City who finds herself torn between her
  family and her forbidden love. Ripe with all the drama and interpers...
DTSTART;TZID=America/New_York:20200326T190000
DTEND;TZID=America/New_York:20200326T210000
END:VEVENT
END:VCALENDAR
