BEGIN:VCALENDAR
PRODID:-//eluceo/ical//2.0/EN
VERSION:2.0
CALSCALE:GREGORIAN
BEGIN:VEVENT
UID:514765d95b48d9ac3dfab028fe058aeb
DTSTAMP:20260422T173933Z
SUMMARY:Lets Speak Hebrew with Shlicha Avia Sagron
DESCRIPTION:Jewish Federation of New Hampshire\nCommunity Calendar\nhttps:/
 /jewishnh.org/community-calendar/lets-speak-hebrew-with-shlicha-avia-sagro
 n\n\nThe theme for this class is "Introductions"\n\n\nThis is a free class
  but please RSVP.\nEmail-shlicha@jewishnh.org
DTSTART;TZID=America/New_York:20200119T150000
DTEND;TZID=America/New_York:20200119T170000
END:VEVENT
END:VCALENDAR
