BEGIN:VCALENDAR
PRODID:-//eluceo/ical//2.0/EN
VERSION:2.0
CALSCALE:GREGORIAN
BEGIN:VEVENT
UID:9fdfea9d95c05db89f35032f71c81f66
DTSTAMP:20260423T021923Z
SUMMARY:PJ Library Havdalah Sleepunder!
DESCRIPTION:Jewish Federation of New Hampshire\nCommunity Calendar\nhttps:/
 /jewishnh.org/community-calendar/library-havdalah\n\nWear your favorite pa
 jamas and let's have all the fun of a sleepover with none of the sleeping!
 \n\nGlow Stick Havdalah\, freeze dance\, simple snacl and craft.\n\nPlease
  register by November 21st. Email allyson.guertin@jewishnh.org with questi
 ons\n\n 
DTSTART;TZID=America/New_York:20191123T180000
DTEND;TZID=America/New_York:20191123T200000
END:VEVENT
END:VCALENDAR
