BEGIN:VCALENDAR
PRODID:-//eluceo/ical//2.0/EN
VERSION:2.0
CALSCALE:GREGORIAN
BEGIN:VEVENT
UID:eabbfaed8842d1bbb4026a408d88fece
DTSTAMP:20260423T032218Z
SUMMARY:Light Up Portsmouth
DESCRIPTION:Jewish Federation of New Hampshire\nCommunity Calendar\nhttps:/
 /jewishnh.org/community-calendar/light-up-portsmouth-1575322628\n\nLight u
 p Portsmouth for the first time!The Seacoast Jewish Center invites you to 
 a Giant Menorah Lighting @ Strawbery Banke Museum ‘at the Visitors Cente
 r\, outside the main entrance’ Part of the 'Candlelight Stroll'Free of c
 harge Fun for the whole Family Music & Dancing Dreidels for everyoneSUNDAY
  | DEC 22 | 4:30 PM RSVP and Sponsorship at JewishSeacoast.com/LightUp | 6
 03-205-6598
DTSTART;TZID=America/New_York:20191222T043000
DTEND;TZID=America/New_York:20191222T173000
END:VEVENT
END:VCALENDAR
