BEGIN:VCALENDAR
PRODID:-//eluceo/ical//2.0/EN
VERSION:2.0
CALSCALE:GREGORIAN
BEGIN:VEVENT
UID:043d688ae3be0448fe3409659a712d7d
DTSTAMP:20260422T175240Z
SUMMARY:LIMMUD Boston
DESCRIPTION:Jewish Federation of New Hampshire\nCommunity Calendar\nhttps:/
 /jewishnh.org/community-calendar/limmud-boston-1639166808\n\nBetween the c
 old and the snow\, Covid and the flu\, staying at home is the safest way t
 o attend LimmudBoston on Sunday\, January 23rd from noon to 4:30! This yea
 r we celebrate the 12th annual Limmud Boston Festival.There are going to b
 e some amazing presenters! Jonathan Sarna will discuss the current state o
 f anti-Semitism in the world around us.  Marc Gopin will share highlights 
 of his newest book\, Compassionate Reasoning which combines the best wisdo
 m of science\, philosophy\, ethics\, and world ...
DTSTART;TZID=America/New_York:20220123T120000
DTEND;TZID=America/New_York:20220123T163000
END:VEVENT
END:VCALENDAR
